BEGIN:VCALENDAR
VERSION:2.0
PRODID:-//ARCUS Greencycling Technologies - ECPv6.15.17.1//NONSGML v1.0//EN
CALSCALE:GREGORIAN
METHOD:PUBLISH
X-WR-CALNAME:ARCUS Greencycling Technologies
X-ORIGINAL-URL:https://www.arcus-greencycling.com
X-WR-CALDESC:Veranstaltungen für ARCUS Greencycling Technologies
REFRESH-INTERVAL;VALUE=DURATION:PT1H
X-Robots-Tag:noindex
X-PUBLISHED-TTL:PT1H
BEGIN:VTIMEZONE
TZID:UTC
BEGIN:STANDARD
TZOFFSETFROM:+0000
TZOFFSETTO:+0000
TZNAME:UTC
DTSTART:20250101T000000
END:STANDARD
END:VTIMEZONE
BEGIN:VEVENT
DTSTART;VALUE=DATE:20260504
DTEND;VALUE=DATE:20260508
DTSTAMP:20260420T012553
CREATED:20260305T195117Z
LAST-MODIFIED:20260329T214337Z
UID:3440-1777852800-1778198399@www.arcus-greencycling.com
SUMMARY:IFAT Munich 2026
DESCRIPTION:Persönlicher Austausch auf der IFAT Munich Treffen Sie ARCUS vor Ort in München (4.–7. Mai 2026). Wählen Sie einfach ein Zeitfenster – wir bestätigen den Termin per E-Mail inkl. Kalendereintrag. \nDauer: 20–30 Minuten\nOrt: Messe München\, Stand A6.121 (Plastics Europe Deutschland)\nSprachen: Deutsch/Englisch
URL:https://www.arcus-greencycling.com/event/ifat-muenchen
LOCATION:IFAT München\, Am Messesee 2\, München\, 81829\, Germany
ATTACH;FMTTYPE=image/jpeg:https://www.arcus-greencycling.com/wp-content/uploads/2026/03/bgr-event-ifat.jpg
END:VEVENT
END:VCALENDAR